BEGIN:VCALENDAR
VERSION:2.0
CALSCALE:GREGORIAN
PRODID:adamgibbons/ics
METHOD:PUBLISH
X-PUBLISHED-TTL:PT1H
BEGIN:VEVENT
UID:5954@lapunta.org
SUMMARY:Fuori Alfredo dal 41 bis. Iniziative a Carrara e a Pisa\, 14 e 18 m
	arzo 2026
DTSTAMP:20260423T203903Z
DTSTART:20260314T163000Z
DTEND:20260318T225900Z
DESCRIPTION:Fuori Alfredo dal 41 bis\nIniziative a Carrara e a Pisa\, 14 e 
	18 marzo 2026\n\nAi servi del potere dico una cosa sola: potete tenermi in
	 galera per il resto\ndella vita ma rassegnatevi\, non riuscirete a toglie
	rmi la coerenza e il rispetto\ndi me stesso\, né tanto meno il piacere e l
	a voglia di combattervi.\nAlfredo Cospito\, 2021\n\nIl 41 bis impiegato co
	ntro i rivoluzionari è una tra le principali espressioni\ndell’offensiva r
	epressiva avviata dagli ultimi governi. Alfredo Cospito\,\nanarchico finit
	o in carcere nel 2012 per aver colpito uno dei responsabili del\ndisastro 
	nucleare che verrà\, dopo quasi 10 anni veniva trasferito in regime di\n41
	 bis e al contempo messo a rischio di una condanna all’ergastolo ostativo.
	 La\nnuova inquisizione di Stato desiderava un annientamento totale.\n\nTu
	ttavia\, in particolare dopo l’inizio di un lunghissimo sciopero della fam
	e da\nparte di Alfredo\, si è sviluppato un grande movimento di solidariet
	à\ninternazionale\, che ha infranto la coltre di silenzio che vigeva su un
	 regime\ndetentivo prima di allora inviolabile e ostacolato la macchina de
	lla\nrepressione.\n\nRisale allo scorso anno la sentenza di non luogo a pr
	ocedere nei confronti di\nuna decina di anarchici\, tra cui Alfredo Cospit
	o\, inquisiti a Perugia per la\npubblicazione di un giornale anarchico riv
	oluzionario. Un’inchiesta che era\nstata un importante sostegno al trasfer
	imento in 41 bis.\n\nA prescindere da condanne e assoluzioni\, sappiamo be
	ne come il ministero della\ngalera sia capace di scovare sempre nuove moti
	vazioni per mantenere Alfredo in\nquella tomba per vivi. Così come sappiam
	o quanto il 41 bis sia un perno\nfondamentale nel sistema carcerario. Lo v
	ediamo oggi con la riorganizzazione del\nregime detentivo al fine di conce
	ntrare una consistente parte dei detenuti in\nalcune carceri in Sardegna.\
	n\nCon l’approssimarsi della scadenza dei primi quattro anni di applicazio
	ne di\nquesto regime nei confronti di Alfredo\, torniamo in piazza contro 
	il 41 bis.\n\nNell’attuale contesto di guerra la tortura bianca del 41 bis
	 è un monito contro\nquanti potrebbero decidere di farla finita con lo Sta
	to e il capitalismo. Contro\ntutti i padroni della guerra\, dello sfruttam
	ento e delle tecno-scienze\,\ncontinueremo sempre a sostenere le ragioni d
	ell’azione diretta e rivoluzionaria.\n\nPresidi\nSabato 14 marzo 2026: Mar
	ina di Carrara\, piazza Ingolstadt\, ore 17:30.\nMercoledì 18 marzo 2026: 
	Pisa\, piazza Vittorio Emanuele II\, ore 17:30.
URL:https://lapunta.org/event/fuori-alfredo-dal-41-bis-iniziative-a-carrara
	-e-a-pisa-14-e-18-marzo-2026
LOCATION:piazza Ingolstadt\, Marina di Carrara\, Carrara\, MS - piazza Ingo
	lstadt\, Marina di Carrara\, Carrara\, MS
STATUS:CONFIRMED
CATEGORIES:Alfredo Cospito,Carrara,No 41 bis,Pisa,carcere
X-ALT-DESC;FMTTYPE=text/html:<p><strong>Fuori Alfredo dal 41 bis<br>Iniziat
	ive a Carrara e a Pisa, 14 e 18 marzo 2026</strong></p><p><em>Ai servi del
	 potere dico una cosa sola: potete tenermi in galera per il resto della vi
	ta ma rassegnatevi, non riuscirete a togliermi la coerenza e il rispetto d
	i me stesso, né tanto meno il piacere e la voglia di combattervi.<br></em>
	Alfredo Cospito, 2021</p><p>Il 41 bis impiegato contro i rivoluzionari è u
	na tra le principali espressioni dell’offensiva repressiva avviata dagli u
	ltimi governi. Alfredo Cospito, anarchico finito in carcere nel 2012 per a
	ver colpito uno dei responsabili <em>del disastro nucleare che verrà</em>,
	 dopo quasi 10 anni veniva trasferito in regime di 41 bis e al contempo me
	sso a rischio di una condanna all’ergastolo ostativo. La nuova inquisizion
	e di Stato desiderava un annientamento totale.</p><p>Tuttavia, in particol
	are dopo l’inizio di un lunghissimo sciopero della fame da parte di Alfred
	o, si è sviluppato un grande movimento di solidarietà internazionale, che 
	ha infranto la coltre di silenzio che vigeva su un regime detentivo prima 
	di allora inviolabile e ostacolato la macchina della repressione.</p><p>Ri
	sale allo scorso anno la sentenza di non luogo a procedere nei confronti d
	i una decina di anarchici, tra cui Alfredo Cospito, inquisiti a Perugia pe
	r la pubblicazione di un giornale anarchico rivoluzionario. Un’inchiesta c
	he era stata un importante sostegno al trasferimento in 41 bis.</p><p>A pr
	escindere da condanne e assoluzioni, sappiamo bene come il ministero della
	 galera sia capace di scovare sempre nuove motivazioni per mantenere Alfre
	do in quella <em>tomba per vivi</em>. Così come sappiamo quanto il 41 bis 
	sia un perno fondamentale nel sistema carcerario. Lo vediamo oggi con la r
	iorganizzazione del regime detentivo al fine di concentrare una consistent
	e parte dei detenuti in alcune carceri in Sardegna.</p><p>Con l’approssima
	rsi della scadenza dei primi quattro anni di applicazione di questo regime
	 nei confronti di Alfredo, torniamo in piazza contro il 41 bis.</p><p>Nell
	’attuale contesto di guerra la <em>tortura bianca</em> del 41 bis è un mon
	ito contro quanti potrebbero decidere di farla finita con lo Stato e il ca
	pitalismo. Contro tutti i padroni della guerra, dello sfruttamento e delle
	 tecno-scienze, continueremo sempre a sostenere le ragioni dell’azione dir
	etta e rivoluzionaria.</p><p><strong>Presidi<br>Sabato 14 marzo 2026: Mari
	na di Carrara, piazza Ingolstadt, ore 17:30.<br>Mercoledì 18 marzo 2026: P
	isa, piazza Vittorio Emanuele II, ore 17:30.</strong></p>
END:VEVENT
END:VCALENDAR
